BEGIN:VCALENDAR
VERSION:2.0
PRODID:-//RidePEI - ECPv6.15.20//NONSGML v1.0//EN
CALSCALE:GREGORIAN
METHOD:PUBLISH
X-WR-CALNAME:RidePEI
X-ORIGINAL-URL:https://ridepei.ca
X-WR-CALDESC:Events for RidePEI
REFRESH-INTERVAL;VALUE=DURATION:PT1H
X-Robots-Tag:noindex
X-PUBLISHED-TTL:PT1H
BEGIN:VTIMEZONE
TZID:America/Halifax
BEGIN:DAYLIGHT
TZOFFSETFROM:-0400
TZOFFSETTO:-0300
TZNAME:ADT
DTSTART:20250309T060000
END:DAYLIGHT
BEGIN:STANDARD
TZOFFSETFROM:-0300
TZOFFSETTO:-0400
TZNAME:AST
DTSTART:20251102T050000
END:STANDARD
BEGIN:DAYLIGHT
TZOFFSETFROM:-0400
TZOFFSETTO:-0300
TZNAME:ADT
DTSTART:20260308T060000
END:DAYLIGHT
BEGIN:STANDARD
TZOFFSETFROM:-0300
TZOFFSETTO:-0400
TZNAME:AST
DTSTART:20261101T050000
END:STANDARD
BEGIN:DAYLIGHT
TZOFFSETFROM:-0400
TZOFFSETTO:-0300
TZNAME:ADT
DTSTART:20270314T060000
END:DAYLIGHT
BEGIN:STANDARD
TZOFFSETFROM:-0300
TZOFFSETTO:-0400
TZNAME:AST
DTSTART:20271107T050000
END:STANDARD
END:VTIMEZONE
BEGIN:VEVENT
DTSTART;VALUE=DATE:20260108
DTEND;VALUE=DATE:20260109
DTSTAMP:20260424T063219
CREATED:20260108T193649Z
LAST-MODIFIED:20260108T193649Z
UID:117332-1767830400-1767916799@ridepei.ca
SUMMARY:Burger Night
DESCRIPTION:Every Thursday evening 6-830 PM
URL:https://ridepei.ca/event/burger-night/
CATEGORIES:Tignish ATV Club
ATTACH;FMTTYPE=image/jpeg:https://ridepei.ca/wp-content/uploads/2026/01/BURGER-NIGHTS-ARE-BACK.jpg
END:VEVENT
BEGIN:VEVENT
DTSTART;VALUE=DATE:20260109
DTEND;VALUE=DATE:20260110
DTSTAMP:20260424T063219
CREATED:20260109T141747Z
LAST-MODIFIED:20260109T141747Z
UID:117355-1767916800-1768003199@ridepei.ca
SUMMARY:Evangeline - Burger Night
DESCRIPTION:Join us at the Clubhouse for a BBQ!\n1007 Cannontown Rd\, Mont Carmel\nATV Route 200 if you using the RidePEI app
URL:https://ridepei.ca/event/evangeline-burger-night/
CATEGORIES:Evangeline ATV Club
ATTACH;FMTTYPE=image/png:https://ridepei.ca/wp-content/uploads/2026/01/Fridays-7-9PM.png
END:VEVENT
BEGIN:VEVENT
DTSTART;VALUE=DATE:20260110
DTEND;VALUE=DATE:20260111
DTSTAMP:20260424T063219
CREATED:20260107T150146Z
LAST-MODIFIED:20260108T173338Z
UID:117227-1768003200-1768089599@ridepei.ca
SUMMARY:ATV Fun Run
DESCRIPTION:TSR ATV FUN RUN – Saturday\, January 10th!  \n\nGet ready\, riders — our first TSR ATV Fun Run of 2026 is happening January 10th!\nWe’ll be accessing our approved “road” trails\, so insurance is mandatory.\n\n\n Cost: $20 per bike\n BONUS: Every registered bike will receive a gift card for a FREE Coffee and Donut donated by Tignish Shell Gas Bar & Robin’s!\n…and every registered bike will also have a chance to win 3- FREE Burger & Fries for an upcoming burger night.\n\n\nWe’ll also have:\n PEI Trail Permits\n TSR Club Memberships\n 50/50 Draw\nSoups and Chowders will be available!\n\n\nCome out for a great day of riding with friends and lots of fun!\nSee you on the trails!
URL:https://ridepei.ca/event/atv-fun-run/
LOCATION:Tignish Sportsmen Riders ATV Club\, 482 Deblois Rd\, Tignish\, PE\, C0B 2B0\, Canada
CATEGORIES:Tignish ATV Club
ATTACH;FMTTYPE=image/jpeg:https://ridepei.ca/wp-content/uploads/2026/01/610638634_10163940132467040_3054223065778597303_n.jpg
END:VEVENT
BEGIN:VEVENT
DTSTART;VALUE=DATE:20260111
DTEND;VALUE=DATE:20260112
DTSTAMP:20260424T063219
CREATED:20260107T150349Z
LAST-MODIFIED:20260108T173322Z
UID:117229-1768089600-1768175999@ridepei.ca
SUMMARY:ATV Fun Run
DESCRIPTION:Fundraising Run  January 11 Registration: 12:00 – 1:00 PM$20 per machine($15 for Club Members and free for Gold Members)Door Prizes and 50/50 Run starts at 1:00 PM Chilli & Chicken Fricot served at 12:00 PMClub Memberships and Trail Passes will also be available for sale.
URL:https://ridepei.ca/event/atv-fun-run-2/
LOCATION:Evangeline ATV Club\, 1007 Cannontown Rd\, Wellington\, PE\, C0B 2E0\, Canada
CATEGORIES:Evangeline ATV Club
ATTACH;FMTTYPE=image/jpeg:https://ridepei.ca/wp-content/uploads/2026/01/610638634_10163940132467040_3054223065778597303_n.jpg
END:VEVENT
BEGIN:VEVENT
DTSTART;VALUE=DATE:20260114
DTEND;VALUE=DATE:20260115
DTSTAMP:20260424T063219
CREATED:20260108T201130Z
LAST-MODIFIED:20260108T201130Z
UID:117353-1768348800-1768435199@ridepei.ca
SUMMARY:O'leary Club #7 BBQ Night
DESCRIPTION:Every Wednesday\nNew to Menu- WINGS!!!
URL:https://ridepei.ca/event/oleary-club-7-bbq-night/
CATEGORIES:O'Leary ATV Club
ATTACH;FMTTYPE=image/jpeg:https://ridepei.ca/wp-content/uploads/2026/01/Oleary-BBQ-night.jpg
END:VEVENT
BEGIN:VEVENT
DTSTART;VALUE=DATE:20260115
DTEND;VALUE=DATE:20260116
DTSTAMP:20260424T063219
CREATED:20260108T200330Z
LAST-MODIFIED:20260108T200330Z
UID:117347-1768435200-1768521599@ridepei.ca
SUMMARY:TSR #1 Burger Night
DESCRIPTION:Every Thursday evening 6-830 pm
URL:https://ridepei.ca/event/tsr-1-burger-night/
CATEGORIES:Tignish ATV Club
ATTACH;FMTTYPE=image/jpeg:https://ridepei.ca/wp-content/uploads/2026/01/BURGER-NIGHTS-ARE-BACK-1.jpg
END:VEVENT
BEGIN:VEVENT
DTSTART;VALUE=DATE:20260116
DTEND;VALUE=DATE:20260117
DTSTAMP:20260424T063219
CREATED:20260109T142015Z
LAST-MODIFIED:20260109T142015Z
UID:117357-1768521600-1768607999@ridepei.ca
SUMMARY:Evangeline - Burger Night
DESCRIPTION:Join us at the Clubhouse for a BBQ!\n1007 Cannontown Rd\, Mont Carmel\nATV Route 200 if you using the RidePEI app
URL:https://ridepei.ca/event/evangeline-burger-night-2/
CATEGORIES:Evangeline ATV Club
ATTACH;FMTTYPE=image/png:https://ridepei.ca/wp-content/uploads/2026/01/Fridays-7-9PM-1.png
END:VEVENT
BEGIN:VEVENT
DTSTART;VALUE=DATE:20260117
DTEND;VALUE=DATE:20260118
DTSTAMP:20260424T063219
CREATED:20260107T151137Z
LAST-MODIFIED:20260108T113940Z
UID:117231-1768608000-1768694399@ridepei.ca
SUMMARY:Rufus Run
DESCRIPTION:The #RufusRun is back! The annual ATV run in memory of Ethan Reilly will take place Saturday\, January 17th\, with registration beginning at 11:30 am. $20 per bike\, registration\, helmet and trail passes required. A huge thank you to O’Leary Recreational Club #7 for all of the help and work they put in for this event. We are so glad to partner with them to honour Ethan!
URL:https://ridepei.ca/event/rufus-run/
LOCATION:O’Leary ATV Club\, 1290 O'Leary Rd\, O'Leary\, PE\, C0B 1V0\, Canada
CATEGORIES:O'Leary ATV Club
ATTACH;FMTTYPE=image/jpeg:https://ridepei.ca/wp-content/uploads/2026/01/rufus.jpg
END:VEVENT
BEGIN:VEVENT
DTSTART;VALUE=DATE:20260117
DTEND;VALUE=DATE:20260118
DTSTAMP:20260424T063219
CREATED:20260109T143851Z
LAST-MODIFIED:20260115T123702Z
UID:117365-1768608000-1768694399@ridepei.ca
SUMMARY:Evangeline - Music Night
DESCRIPTION:Join us at the Clubhouse for an evening of music\nLimited Seating Available\n9 pm – Midnight\n1007 Cannontown Rd\, Mont Carmel\nATV Route 200 if you’re using the RidePEI app \n  \n Brian Arsenault & Rob Doucette \n Music Night Cover:\n• $15 – Non-Members\n• $10 – Members\n• FREE – Gold Members
URL:https://ridepei.ca/event/evangeline-music-night/
CATEGORIES:Evangeline ATV Club
ATTACH;FMTTYPE=image/png:https://ridepei.ca/wp-content/uploads/2026/01/Music-Night-For-ridepei-events.png
END:VEVENT
BEGIN:VEVENT
DTSTART;VALUE=DATE:20260118
DTEND;VALUE=DATE:20260119
DTSTAMP:20260424T063219
CREATED:20260112T184414Z
LAST-MODIFIED:20260112T184414Z
UID:117368-1768694400-1768780799@ridepei.ca
SUMMARY:TSR ATV FUN RUN – Sunday\, January 18th!
DESCRIPTION:🚨Get ready\, riders — we are going to have another great day on the trails \nRegistration is from 12-1 pm\nHelmets\, Trail Permits & Insurance are mandatory  \n👉 Cost: $20 per bike \nWe’ll also have available:\n✔️ PEI Trail Permits\n✔️ TSR Club Memberships\n✔️ 50/50 Draw\n✔️Club Merchandise \nSoups\, Chowders and Pizza will be available!\nCome out for a great day of riding with friends and lots of fun!\nSee you on the trails!
URL:https://ridepei.ca/event/tsr-atv-fun-run-sunday-january-18th/
CATEGORIES:Tignish ATV Club
ATTACH;FMTTYPE=image/jpeg:https://ridepei.ca/wp-content/uploads/2026/01/Winter-atv-run-trail.jpg
END:VEVENT
BEGIN:VEVENT
DTSTART;VALUE=DATE:20260122
DTEND;VALUE=DATE:20260123
DTSTAMP:20260424T063219
CREATED:20260108T200718Z
LAST-MODIFIED:20260108T200718Z
UID:117349-1769040000-1769126399@ridepei.ca
SUMMARY:TSR #1 Burger Night
DESCRIPTION:Every Thursday evening 6-830pm
URL:https://ridepei.ca/event/tsr-1-burger-night-2/
CATEGORIES:Tignish ATV Club
ATTACH;FMTTYPE=image/jpeg:https://ridepei.ca/wp-content/uploads/2026/01/BURGER-NIGHTS-ARE-BACK-2.jpg
END:VEVENT
BEGIN:VEVENT
DTSTART;VALUE=DATE:20260123
DTEND;VALUE=DATE:20260124
DTSTAMP:20260424T063219
CREATED:20260109T142151Z
LAST-MODIFIED:20260109T142151Z
UID:117361-1769126400-1769212799@ridepei.ca
SUMMARY:Evangeline - Burger Night
DESCRIPTION:Join us at the Clubhouse for a BBQ!\n1007 Cannontown Rd\, Mont Carmel\nATV Route 200 if you using the RidePEI app
URL:https://ridepei.ca/event/evangeline-burger-night-4/
CATEGORIES:Evangeline ATV Club
ATTACH;FMTTYPE=image/png:https://ridepei.ca/wp-content/uploads/2026/01/Fridays-7-9PM-3.png
END:VEVENT
BEGIN:VEVENT
DTSTART;VALUE=DATE:20260129
DTEND;VALUE=DATE:20260130
DTSTAMP:20260424T063219
CREATED:20260108T200821Z
LAST-MODIFIED:20260108T200821Z
UID:117351-1769644800-1769731199@ridepei.ca
SUMMARY:TSR #1 Burger Night
DESCRIPTION:Every Thursday evening 6-830pm
URL:https://ridepei.ca/event/tsr-1-burger-night-3/
CATEGORIES:Tignish ATV Club
ATTACH;FMTTYPE=image/jpeg:https://ridepei.ca/wp-content/uploads/2026/01/BURGER-NIGHTS-ARE-BACK-3.jpg
END:VEVENT
BEGIN:VEVENT
DTSTART;VALUE=DATE:20260130
DTEND;VALUE=DATE:20260131
DTSTAMP:20260424T063219
CREATED:20260109T142110Z
LAST-MODIFIED:20260109T142110Z
UID:117359-1769731200-1769817599@ridepei.ca
SUMMARY:Evangeline - Burger Night
DESCRIPTION:Join us at the Clubhouse for a BBQ!\n1007 Cannontown Rd\, Mont Carmel\nATV Route 200 if you using the RidePEI app
URL:https://ridepei.ca/event/evangeline-burger-night-3/
CATEGORIES:Evangeline ATV Club
ATTACH;FMTTYPE=image/png:https://ridepei.ca/wp-content/uploads/2026/01/Fridays-7-9PM-2.png
END:VEVENT
BEGIN:VEVENT
DTSTART;VALUE=DATE:20260131
DTEND;VALUE=DATE:20260201
DTSTAMP:20260424T063219
CREATED:20260107T151706Z
LAST-MODIFIED:20260108T113838Z
UID:117239-1769817600-1769903999@ridepei.ca
SUMMARY:ATV Night Run
DESCRIPTION:Check Facebook for details.
URL:https://ridepei.ca/event/atv-night-run/
LOCATION:Tignish Sportsmen Riders ATV Club\, 482 Deblois Rd\, Tignish\, PE\, C0B 2B0\, Canada
CATEGORIES:Tignish ATV Club
ATTACH;FMTTYPE=image/webp:https://ridepei.ca/wp-content/uploads/2025/09/Tignish-Logo.webp
END:VEVENT
BEGIN:VEVENT
DTSTART;VALUE=DATE:20260206
DTEND;VALUE=DATE:20260207
DTSTAMP:20260424T063219
CREATED:20260109T142423Z
LAST-MODIFIED:20260109T142423Z
UID:117363-1770336000-1770422399@ridepei.ca
SUMMARY:Evangeline - Burger Night
DESCRIPTION:Join us at the Clubhouse for a BBQ!\n1007 Cannontown Rd\, Mont Carmel\nATV Route 200 if you using the RidePEI app
URL:https://ridepei.ca/event/evangeline-burger-night-5/
CATEGORIES:Evangeline ATV Club
ATTACH;FMTTYPE=image/png:https://ridepei.ca/wp-content/uploads/2026/01/Fridays-7-9PM-4.png
END:VEVENT
BEGIN:VEVENT
DTSTART;VALUE=DATE:20260206
DTEND;VALUE=DATE:20260209
DTSTAMP:20260424T063219
CREATED:20260107T152114Z
LAST-MODIFIED:20260108T194608Z
UID:117242-1770336000-1770595199@ridepei.ca
SUMMARY:Red Dirt Ride 2026
DESCRIPTION:Dates: February 6-8\nLocation: North Cape Coastal Drive\, PEI\n\n Winter ATV Adventure – February 2026 \nGet ready for an unforgettable weekend ride!\nRED DIRT RIDE IS BACK!\n\n\nJoin the North Cape Coastal Drive\, in partnership with the PEI ATV Federation and three amazing local clubs – Tignish\, O’Leary\, and Evangeline – for the Red Dirt Ride happening in February 2026!\n\n\n\nExperience the beauty of PEI’s winter trails\, connect with fellow riders\, and make memories that will last a lifetime. This is one winter adventure you won’t want to miss!\n\n\n\n Mark your calendar and learn more here:\n https://northcapedrive.com/red-dirt-ride/
URL:https://ridepei.ca/event/red-dirt-ride-festival-2/
LOCATION:North Cape\, PE\, North Cape\, Prince Edward Island\, Canada
CATEGORIES:ATV Federation
ATTACH;FMTTYPE=image/jpeg:https://ridepei.ca/wp-content/uploads/2025/10/IMG_13-1-scaled.jpg
ORGANIZER;CN="RidePEI":MAILTO:info@northcapedrive.com
END:VEVENT
BEGIN:VEVENT
DTSTART;TZID=America/Halifax:20260214T180000
DTEND;TZID=America/Halifax:20260214T220000
DTSTAMP:20260424T063219
CREATED:20260107T152325Z
LAST-MODIFIED:20260108T113707Z
UID:117244-1771092000-1771106400@ridepei.ca
SUMMARY:ATV ❤️ Valentines Run
DESCRIPTION:
URL:https://ridepei.ca/event/atv-%e2%9d%a4%ef%b8%8f-valentines-run/
LOCATION:Tignish Sportsmen Riders ATV Club\, 482 Deblois Rd\, Tignish\, PE\, C0B 2B0\, Canada
CATEGORIES:Tignish ATV Club
ATTACH;FMTTYPE=image/jpeg:https://ridepei.ca/wp-content/uploads/2026/01/608651445_25436744296017408_6905324305095502422_n.jpg
END:VEVENT
BEGIN:VEVENT
DTSTART;VALUE=DATE:20260419
DTEND;VALUE=DATE:20260420
DTSTAMP:20260424T063219
CREATED:20260313T143532Z
LAST-MODIFIED:20260313T143532Z
UID:117420-1776556800-1776643199@ridepei.ca
SUMMARY:ATV Marketplace & Show
DESCRIPTION:April 19th from 1-4\n31 School Street @ Miscouche Rec Center  \nThis event is open to Dealerships and Private sellers to come and sell\, talk about what they have to offer\, or display their items.  New and Used items\, New old Stock\, Demos\, accessories.  This is an ATV/SXS-related event.  \nMiscouche Junior Firefighters will be hosting their own BBQ fundraiser so come hungry.    \nAdmission is free. Vendors\, please note there is a small fee to help cover the rental cost.
URL:https://ridepei.ca/event/atv-marketplace-show/
CATEGORIES:Miscouche ATV Club
ATTACH;FMTTYPE=image/png:https://ridepei.ca/wp-content/uploads/2026/03/B6A1CF52-1931-47E4-936B-17D69D120A38.png
END:VEVENT
END:VCALENDAR