BEGIN:VCALENDAR
VERSION:2.0
PRODID:-//RidePEI - ECPv6.15.20//NONSGML v1.0//EN
CALSCALE:GREGORIAN
METHOD:PUBLISH
X-WR-CALNAME:RidePEI
X-ORIGINAL-URL:https://ridepei.ca
X-WR-CALDESC:Events for RidePEI
REFRESH-INTERVAL;VALUE=DURATION:PT1H
X-Robots-Tag:noindex
X-PUBLISHED-TTL:PT1H
BEGIN:VTIMEZONE
TZID:America/Halifax
BEGIN:DAYLIGHT
TZOFFSETFROM:-0400
TZOFFSETTO:-0300
TZNAME:ADT
DTSTART:20240310T060000
END:DAYLIGHT
BEGIN:STANDARD
TZOFFSETFROM:-0300
TZOFFSETTO:-0400
TZNAME:AST
DTSTART:20241103T050000
END:STANDARD
BEGIN:DAYLIGHT
TZOFFSETFROM:-0400
TZOFFSETTO:-0300
TZNAME:ADT
DTSTART:20250309T060000
END:DAYLIGHT
BEGIN:STANDARD
TZOFFSETFROM:-0300
TZOFFSETTO:-0400
TZNAME:AST
DTSTART:20251102T050000
END:STANDARD
BEGIN:DAYLIGHT
TZOFFSETFROM:-0400
TZOFFSETTO:-0300
TZNAME:ADT
DTSTART:20260308T060000
END:DAYLIGHT
BEGIN:STANDARD
TZOFFSETFROM:-0300
TZOFFSETTO:-0400
TZNAME:AST
DTSTART:20261101T050000
END:STANDARD
END:VTIMEZONE
BEGIN:VEVENT
DTSTART;VALUE=DATE:20250207
DTEND;VALUE=DATE:20250210
DTSTAMP:20260424T113510
CREATED:20250110T132418Z
LAST-MODIFIED:20251015T175252Z
UID:112611-1738886400-1739145599@ridepei.ca
SUMMARY:Red Dirt Ride Festival
DESCRIPTION:Dates: February 7-9\nLocation: North Cape Coastal Drive\, PEI\nJoin us for a thrilling weekend of ATV adventures on the stunning trails of North Cape Coastal Drive! Enjoy scenic rides\, cultural experiences\, and memories that will last a lifetime. \nPackages Starting At: \n\nBriarwood Coastal Cottages: $345/person\nMill River Resort: $359/person\nGoeland Centre: $300/person\n\nWhat’s Included: \nAccommodations \n\nTwo nights at your choice of Briarwood Coastal Cottages\, Mill River Resort\, or Goeland Centre.\n\nMeals \n\nDaily breakfasts (Briarwood & Goeland Centre).\nLunches featuring Acadian specialties\, BBQ\, and a unique oyster station.\nEvening dinners with live entertainment and Island-inspired flavours.\n\nGuided ATV Rides \n\nExplore the stunning trails of the Evangeline and Tignish areas.\n\nCultural & Culinary Experiences \n\nTaste local favorites like Chicken Fricot and Râpure.\nEnjoy live music and performances at Village Musical Acadien.\n\nTrail Fun \n\nScavenger hunt for added adventure.\nHot chocolate and refreshment stations along the way.\n\nBook Now! Spots are limited—don’t wait to secure your place. \n🌐 www.reddirtride.ca | 📧 info@northcapedrive.com | 📞  902-394-1043  \nAdventure awaits—reserve your spot today! \n 
URL:https://ridepei.ca/event/red-dirt-ride-festival/
LOCATION:North Cape\, PE\, North Cape\, Prince Edward Island\, Canada
CATEGORIES:ATV Federation
ATTACH;FMTTYPE=image/jpeg:https://ridepei.ca/wp-content/uploads/2025/01/Red-Dirt-Ride-Banner.jpg
ORGANIZER;CN="RidePEI":MAILTO:info@northcapedrive.com
END:VEVENT
BEGIN:VEVENT
DTSTART;TZID=America/Halifax:20250130T180000
DTEND;TZID=America/Halifax:20250130T210000
DTSTAMP:20260424T113510
CREATED:20250113T144631Z
LAST-MODIFIED:20251015T172149Z
UID:112945-1738260000-1738270800@ridepei.ca
SUMMARY:Burger & Home-made Fry Night - Every Thursday
DESCRIPTION:Every Thursday night through the winter months. Visit the club’s Facebook page for more details.\n  \n \n  \n \n 
URL:https://ridepei.ca/event/burger-home-made-fry-night-every-thursday/
LOCATION:Tignish Sportsmen Riders ATV Club\, 482 Deblois Rd\, Tignish\, PE\, C0B 2B0\, Canada
CATEGORIES:ATV Federation,Tignish ATV Club
ORGANIZER;CN="RidePEI":MAILTO:info@northcapedrive.com
END:VEVENT
END:VCALENDAR